BEGIN:VCALENDAR
VERSION:2.0
PRODID:-//Chart House Waikiki - ECPv6.15.20//NONSGML v1.0//EN
CALSCALE:GREGORIAN
METHOD:PUBLISH
X-WR-CALNAME:Chart House Waikiki
X-ORIGINAL-URL:https://charthousewaikiki.com
X-WR-CALDESC:Events for Chart House Waikiki
REFRESH-INTERVAL;VALUE=DURATION:PT1H
X-Robots-Tag:noindex
X-PUBLISHED-TTL:PT1H
BEGIN:VTIMEZONE
TZID:UTC
BEGIN:STANDARD
TZOFFSETFROM:+0000
TZOFFSETTO:+0000
TZNAME:UTC
DTSTART:20250101T000000
END:STANDARD
END:VTIMEZONE
BEGIN:VEVENT
DTSTART;TZID=UTC:20260424T161500
DTEND;TZID=UTC:20260424T191500
DTSTAMP:20260424T131453
CREATED:20260331T222335Z
LAST-MODIFIED:20260331T222335Z
UID:2126-1777047300-1777058100@charthousewaikiki.com
SUMMARY:*TJ
DESCRIPTION:4/24 | 4:15PM-7:15PM
URL:https://charthousewaikiki.com/event/tj-17/
LOCATION:Chart House Waikiki\, 1765 Ala Moana Boulevard\, Honolulu\, HI\, 96815\, United States
CATEGORIES:Live Music
ATTACH;FMTTYPE=image/webp:https://charthousewaikiki.com/wp-content/uploads/2026/02/Live-Music-577x941-1.webp
END:VEVENT
BEGIN:VEVENT
DTSTART;TZID=UTC:20260424T200000
DTEND;TZID=UTC:20260424T230000
DTSTAMP:20260424T131453
CREATED:20260331T222416Z
LAST-MODIFIED:20260331T222416Z
UID:2127-1777060800-1777071600@charthousewaikiki.com
SUMMARY:BK & FRIENDS
DESCRIPTION:4/24 | 8-11PM
URL:https://charthousewaikiki.com/event/bk-friends-17/
LOCATION:Chart House Waikiki\, 1765 Ala Moana Boulevard\, Honolulu\, HI\, 96815\, United States
CATEGORIES:Live Music
ATTACH;FMTTYPE=image/webp:https://charthousewaikiki.com/wp-content/uploads/2026/02/Live-Music-577x941-1.webp
END:VEVENT
BEGIN:VEVENT
DTSTART;TZID=UTC:20260425T180000
DTEND;TZID=UTC:20260425T220000
DTSTAMP:20260424T131453
CREATED:20260331T222517Z
LAST-MODIFIED:20260331T222517Z
UID:2128-1777140000-1777154400@charthousewaikiki.com
SUMMARY:*HI'IALO
DESCRIPTION:4/25 | 6PM-10PM
URL:https://charthousewaikiki.com/event/hiialo-9/
LOCATION:Chart House Waikiki\, 1765 Ala Moana Boulevard\, Honolulu\, HI\, 96815\, United States
CATEGORIES:Live Music
ATTACH;FMTTYPE=image/webp:https://charthousewaikiki.com/wp-content/uploads/2026/02/Live-Music-577x941-1.webp
END:VEVENT
BEGIN:VEVENT
DTSTART;TZID=UTC:20260426T103000
DTEND;TZID=UTC:20260426T133000
DTSTAMP:20260424T131453
CREATED:20260331T222603Z
LAST-MODIFIED:20260331T222603Z
UID:2129-1777199400-1777210200@charthousewaikiki.com
SUMMARY:*PAKA & GUEST
DESCRIPTION:4/26 | 10:30AM-1:30PM
URL:https://charthousewaikiki.com/event/paka-guest-14/
LOCATION:Chart House Waikiki\, 1765 Ala Moana Boulevard\, Honolulu\, HI\, 96815\, United States
CATEGORIES:Live Music
ATTACH;FMTTYPE=image/webp:https://charthousewaikiki.com/wp-content/uploads/2026/02/Live-Music-577x941-1.webp
END:VEVENT
BEGIN:VEVENT
DTSTART;TZID=UTC:20260426T181500
DTEND;TZID=UTC:20260426T211500
DTSTAMP:20260424T131453
CREATED:20260331T222651Z
LAST-MODIFIED:20260331T222651Z
UID:2130-1777227300-1777238100@charthousewaikiki.com
SUMMARY:DEAN & TITO
DESCRIPTION:4/26 | 6:15PM-9:15PM
URL:https://charthousewaikiki.com/event/dean-tito-7/
LOCATION:Chart House Waikiki\, 1765 Ala Moana Boulevard\, Honolulu\, HI\, 96815\, United States
CATEGORIES:Live Music
ATTACH;FMTTYPE=image/webp:https://charthousewaikiki.com/wp-content/uploads/2026/02/Live-Music-577x941-1.webp
END:VEVENT
BEGIN:VEVENT
DTSTART;TZID=UTC:20260427T180000
DTEND;TZID=UTC:20260427T210000
DTSTAMP:20260424T131453
CREATED:20260331T222733Z
LAST-MODIFIED:20260331T222733Z
UID:2131-1777312800-1777323600@charthousewaikiki.com
SUMMARY:*KAMAKA CAMARILLO
DESCRIPTION:4/27 | 6PM-9PM
URL:https://charthousewaikiki.com/event/kamaka-camarillo-17/
LOCATION:Chart House Waikiki\, 1765 Ala Moana Boulevard\, Honolulu\, HI\, 96815\, United States
CATEGORIES:Live Music
ATTACH;FMTTYPE=image/webp:https://charthousewaikiki.com/wp-content/uploads/2026/02/Live-Music-577x941-1.webp
END:VEVENT
BEGIN:VEVENT
DTSTART;TZID=UTC:20260428T183000
DTEND;TZID=UTC:20260428T213000
DTSTAMP:20260424T131453
CREATED:20260331T222815Z
LAST-MODIFIED:20260331T222815Z
UID:2132-1777401000-1777411800@charthousewaikiki.com
SUMMARY:*HERNAN & DARIN
DESCRIPTION:4/28 | 6:30PM-9:30PM
URL:https://charthousewaikiki.com/event/hernan-darin-16/
LOCATION:Chart House Waikiki\, 1765 Ala Moana Boulevard\, Honolulu\, HI\, 96815\, United States
CATEGORIES:Live Music
ATTACH;FMTTYPE=image/webp:https://charthousewaikiki.com/wp-content/uploads/2026/02/Live-Music-577x941-1.webp
END:VEVENT
BEGIN:VEVENT
DTSTART;TZID=UTC:20260429T180000
DTEND;TZID=UTC:20260429T210000
DTSTAMP:20260424T131453
CREATED:20260331T222858Z
LAST-MODIFIED:20260331T222858Z
UID:2133-1777485600-1777496400@charthousewaikiki.com
SUMMARY:*HI'IKUA
DESCRIPTION:4/29 | 6PM-9PM
URL:https://charthousewaikiki.com/event/hiikua-16/
LOCATION:Chart House Waikiki\, 1765 Ala Moana Boulevard\, Honolulu\, HI\, 96815\, United States
CATEGORIES:Live Music
ATTACH;FMTTYPE=image/webp:https://charthousewaikiki.com/wp-content/uploads/2026/02/Live-Music-577x941-1.webp
END:VEVENT
BEGIN:VEVENT
DTSTART;TZID=UTC:20260430T183000
DTEND;TZID=UTC:20260430T213000
DTSTAMP:20260424T131453
CREATED:20260331T222949Z
LAST-MODIFIED:20260331T222949Z
UID:2134-1777573800-1777584600@charthousewaikiki.com
SUMMARY:*TITO
DESCRIPTION:4/30 | 6:30PM-9:30PM
URL:https://charthousewaikiki.com/event/tito-17/
LOCATION:Chart House Waikiki\, 1765 Ala Moana Boulevard\, Honolulu\, HI\, 96815\, United States
CATEGORIES:Live Music
ATTACH;FMTTYPE=image/webp:https://charthousewaikiki.com/wp-content/uploads/2026/02/Live-Music-577x941-1.webp
END:VEVENT
END:VCALENDAR